BEGIN:VCALENDAR
VERSION:2.0
PRODID:spatie/icalendar-generator
DESCRIPTION:Events from GenE-HumDi
X-WR-CALDESC:Events from GenE-HumDi
REFRESH-INTERVAL;VALUE=DURATION:PT1440M
X-PUBLISHED-TTL:PT1440M
BEGIN:VTIMEZONE
TZID:Europe/Madrid
BEGIN:STANDARD
DTSTART:20221030T030000Z
TZOFFSETFROM:+0200
TZOFFSETTO:+0100
END:STANDARD
BEGIN:DAYLIGHT
DTSTART:20230326T020000Z
TZOFFSETFROM:+0100
TZOFFSETTO:+0200
END:DAYLIGHT
BEGIN:STANDARD
DTSTART:20231029T030000Z
TZOFFSETFROM:+0200
TZOFFSETTO:+0100
END:STANDARD
END:VTIMEZONE
BEGIN:VTIMEZONE
TZID:UTC
BEGIN:STANDARD
DTSTART:20250723T211359Z
TZOFFSETFROM:+0000
TZOFFSETTO:+0000
END:STANDARD
END:VTIMEZONE
BEGIN:VEVENT
UID:14-12
DTSTAMP:20260419T211359Z
SUMMARY:Nucleosides\, Nucleotides and Oligonucleotides | Gordon Research Co
 nference
LOCATION:Salve Regina University 100 Ochre Point Avenue  Newport RI
ORGANIZER;CN=Fco. Javier Molina Estévez:MAILTO:javier.molina@genyo.es
DTSTART;TZID=Europe/Madrid;VALUE=DATE:20230625
DTEND;TZID=Europe/Madrid;VALUE=DATE:20230701
X-ALT-DESC;FMTTYPE=TEXT/HTML:he Nucleosides\, Nucleotides and Oligonucleoti
 des GRC is a premier\, international scientific conference focused on adva
 ncing the frontiers of science through the presentation of cutting-edge an
 d unpublished research\, prioritizing time for discussion after each talk 
 and fostering informal interactions among scientists of all career stages.
  The conference program includes a diverse range of speakers and discussio
 n&amp;hellip\;
CATEGORIES:General
URL;VALUE=URI:https://www.genehumdi.eu/mc-events/nucleosides-nucleotides-an
 d-oligonucleotides-gordon-research-conference/?mc_id=14
END:VEVENT
END:VCALENDAR