BEGIN:VCALENDAR
VERSION:2.0
PRODID:spatie/icalendar-generator
DESCRIPTION:Events from GenE-HumDi
X-WR-CALDESC:Events from GenE-HumDi
REFRESH-INTERVAL;VALUE=DURATION:PT1440M
X-PUBLISHED-TTL:PT1440M
BEGIN:VTIMEZONE
TZID:Europe/Madrid
BEGIN:STANDARD
DTSTART:20221030T030000Z
TZOFFSETFROM:+0200
TZOFFSETTO:+0100
END:STANDARD
BEGIN:DAYLIGHT
DTSTART:20230326T020000Z
TZOFFSETFROM:+0100
TZOFFSETTO:+0200
END:DAYLIGHT
BEGIN:STANDARD
DTSTART:20231029T030000Z
TZOFFSETFROM:+0200
TZOFFSETTO:+0100
END:STANDARD
END:VTIMEZONE
BEGIN:VTIMEZONE
TZID:UTC
BEGIN:STANDARD
DTSTART:20250723T210217Z
TZOFFSETFROM:+0000
TZOFFSETTO:+0000
END:STANDARD
END:VTIMEZONE
BEGIN:VEVENT
UID:16-14
DTSTAMP:20260419T210217Z
SUMMARY:2nd Dutch Antisense Therapeutics Symposium
LOCATION:Radboudumc Experience Center Geert Grooteplein Noord 15  Nijmegen 
 Netherlands 6525 EZ
ORGANIZER;CN=Fco. Javier Molina Estévez:MAILTO:javier.molina@genyo.es
DTSTART;TZID=Europe/Madrid;VALUE=DATE:20230601
DTEND;TZID=Europe/Madrid;VALUE=DATE:20230603
X-ALT-DESC;FMTTYPE=TEXT/HTML:<p>https://www.dutchantisense.org/</p>\n
CATEGORIES:General
URL;VALUE=URI:https://www.genehumdi.eu/mc-events/2nd-dutch-antisense-therap
 eutics-symposium/?mc_id=16
END:VEVENT
END:VCALENDAR