BEGIN:VCALENDAR
VERSION:2.0
PRODID:spatie/icalendar-generator
DESCRIPTION:Events from GenE-HumDi
X-WR-CALDESC:Events from GenE-HumDi
REFRESH-INTERVAL;VALUE=DURATION:PT1440M
X-PUBLISHED-TTL:PT1440M
BEGIN:VTIMEZONE
TZID:Europe/Madrid
BEGIN:DAYLIGHT
DTSTART:20230326T020000Z
TZOFFSETFROM:+0100
TZOFFSETTO:+0200
END:DAYLIGHT
BEGIN:STANDARD
DTSTART:20231029T030000Z
TZOFFSETFROM:+0200
TZOFFSETTO:+0100
END:STANDARD
END:VTIMEZONE
BEGIN:VTIMEZONE
TZID:UTC
BEGIN:STANDARD
DTSTART:20250723T204422Z
TZOFFSETFROM:+0000
TZOFFSETTO:+0000
END:STANDARD
END:VTIMEZONE
BEGIN:VEVENT
UID:25-23
DTSTAMP:20260419T204422Z
SUMMARY:Genetic Engineering using CRISPR/Cas | Summer Course
LOCATION:Aarhus University   Aarhus
ORGANIZER;CN=Rasmus Bak:MAILTO:bak@biomed.au.dk
DTSTART;TZID=Europe/Madrid;VALUE=DATE:20230814
DTEND;TZID=Europe/Madrid;VALUE=DATE:20230826
X-ALT-DESC;FMTTYPE=TEXT/HTML:Genetic engineering is becoming a cornerstone 
 method in molecular and cellular biology\, biotechnology\, biomedicine\, a
 nd soon in the Hospital setting to treat genetic diseases and to genetical
 ly manipulate cells\, e.g. immune cells\, to endow them with better proper
 ties. This summer course will introduce state-of-the-art CRISPR/Cas system
 s and cover key applications in genetic engineering ranging from&amp;hellip\;
CATEGORIES:General
URL;VALUE=URI:https://www.genehumdi.eu/mc-events/genetic-engineering-using-
 crispr-cas-summer-course/?mc_id=25
END:VEVENT
END:VCALENDAR