BEGIN:VCALENDAR
VERSION:2.0
PRODID:spatie/icalendar-generator
DESCRIPTION:Events from GenE-HumDi
X-WR-CALDESC:Events from GenE-HumDi
REFRESH-INTERVAL;VALUE=DURATION:PT1440M
X-PUBLISHED-TTL:PT1440M
BEGIN:VTIMEZONE
TZID:Europe/Madrid
BEGIN:STANDARD
DTSTART:20231029T030000Z
TZOFFSETFROM:+0200
TZOFFSETTO:+0100
END:STANDARD
BEGIN:DAYLIGHT
DTSTART:20240331T020000Z
TZOFFSETFROM:+0100
TZOFFSETTO:+0200
END:DAYLIGHT
BEGIN:STANDARD
DTSTART:20241027T030000Z
TZOFFSETFROM:+0200
TZOFFSETTO:+0100
END:STANDARD
END:VTIMEZONE
BEGIN:VTIMEZONE
TZID:UTC
BEGIN:STANDARD
DTSTART:20250724T082736Z
TZOFFSETFROM:+0000
TZOFFSETTO:+0000
END:STANDARD
END:VTIMEZONE
BEGIN:VEVENT
UID:47-44
DTSTAMP:20260420T082736Z
SUMMARY:Untitled Event
LOCATION:
ORGANIZER;CN=Laura.Torella:MAILTO:ltorella@alumni.unav.es
DTSTART;TZID=Europe/Madrid:20240605T000000
DTEND;TZID=Europe/Madrid:20240605T010000
X-ALT-DESC;FMTTYPE=TEXT/HTML:We're thrilled to announce the launch of our 
 new webinar series organized by young researchers\, for young researchers.
  🔬 Each session will feature an invited speaker sharing insights on cu
 tting-edge topics in science and career development. Join us for an hour o
 f inspiration\, learning\, and networking. 🗓️ Mark your calendars! O
 ur inaugural session is on May 20th at 10&amp;hellip\;
CATEGORIES:General
URL;VALUE=URI:https://www.genehumdi.eu/mc-events/untitled-event/?mc_id=47
END:VEVENT
END:VCALENDAR