BEGIN:VCALENDAR
VERSION:2.0
PRODID:spatie/icalendar-generator
DESCRIPTION:Events from GenE-HumDi
X-WR-CALDESC:Events from GenE-HumDi
REFRESH-INTERVAL;VALUE=DURATION:PT1440M
X-PUBLISHED-TTL:PT1440M
BEGIN:VTIMEZONE
TZID:Europe/Madrid
BEGIN:STANDARD
DTSTART:20231029T030000Z
TZOFFSETFROM:+0200
TZOFFSETTO:+0100
END:STANDARD
BEGIN:DAYLIGHT
DTSTART:20240331T020000Z
TZOFFSETFROM:+0100
TZOFFSETTO:+0200
END:DAYLIGHT
BEGIN:STANDARD
DTSTART:20241027T030000Z
TZOFFSETFROM:+0200
TZOFFSETTO:+0100
END:STANDARD
END:VTIMEZONE
BEGIN:VTIMEZONE
TZID:UTC
BEGIN:STANDARD
DTSTART:20250723T211235Z
TZOFFSETFROM:+0000
TZOFFSETTO:+0000
END:STANDARD
END:VTIMEZONE
BEGIN:VEVENT
UID:48-45
DTSTAMP:20260419T211235Z
SUMMARY:YOUNG RESEARCHERS WEBINAR SERIES: \"Strategies and tools for ex viv
 o and in vivo genome editing\" by Pof. Marc Güell
LOCATION:
ORGANIZER;CN=Laura.Torella:MAILTO:ltorella@alumni.unav.es
DTSTART;TZID=Europe/Madrid:20240527T100000
DTEND;TZID=Europe/Madrid:20240527T125900
X-ALT-DESC;FMTTYPE=TEXT/HTML:New webinar series organized by young research
 ers\, for young researchers. 🔬 Each session will feature an invited sp
 eaker sharing insights on cutting-edge topics in science and career develo
 pment. Join us for an hour of inspiration\, learning\, and networking. 
 🗓️ Mark your calendars! Our inaugural session is on May 20th at 10 
 am CET. Our first expert\, Marc Güell\, will&amp;hellip\;
CATEGORIES:General
URL;VALUE=URI:https://www.genehumdi.eu/mc-events/young-researchers-webinar-
 series-strategies-and-tools-for-ex-vivo-and-in-vivo-genome-editing-by-pof-
 marc-guell/?mc_id=48
END:VEVENT
END:VCALENDAR