BEGIN:VCALENDAR
VERSION:2.0
PRODID:spatie/icalendar-generator
DESCRIPTION:Events from GenE-HumDi
X-WR-CALDESC:Events from GenE-HumDi
REFRESH-INTERVAL;VALUE=DURATION:PT1440M
X-PUBLISHED-TTL:PT1440M
BEGIN:VTIMEZONE
TZID:Europe/Madrid
BEGIN:DAYLIGHT
DTSTART:20240331T020000Z
TZOFFSETFROM:+0100
TZOFFSETTO:+0200
END:DAYLIGHT
BEGIN:STANDARD
DTSTART:20241027T030000Z
TZOFFSETFROM:+0200
TZOFFSETTO:+0100
END:STANDARD
END:VTIMEZONE
BEGIN:VTIMEZONE
TZID:UTC
BEGIN:STANDARD
DTSTART:20250723T205800Z
TZOFFSETFROM:+0000
TZOFFSETTO:+0000
END:STANDARD
END:VTIMEZONE
BEGIN:VEVENT
UID:51-27
DTSTAMP:20260419T205800Z
SUMMARY:WG2 MEETING
LOCATION:
ORGANIZER;CN=Rasmus Bak:MAILTO:bak@biomed.au.dk
DTSTART;TZID=Europe/Madrid;VALUE=DATE:20240918
DTEND;TZID=Europe/Madrid;VALUE=DATE:20240919
X-ALT-DESC;FMTTYPE=TEXT/HTML:
CATEGORIES:General
URL;VALUE=URI:https://www.genehumdi.eu/mc-events/wg2-meeting/?mc_id=51
END:VEVENT
END:VCALENDAR