BEGIN:VCALENDAR
VERSION:2.0
PRODID:spatie/icalendar-generator
DESCRIPTION:Events from GenE-HumDi
X-WR-CALDESC:Events from GenE-HumDi
REFRESH-INTERVAL;VALUE=DURATION:PT1440M
X-PUBLISHED-TTL:PT1440M
BEGIN:VTIMEZONE
TZID:Europe/Madrid
BEGIN:STANDARD
DTSTART:20231029T030000Z
TZOFFSETFROM:+0200
TZOFFSETTO:+0100
END:STANDARD
BEGIN:DAYLIGHT
DTSTART:20240331T020000Z
TZOFFSETFROM:+0100
TZOFFSETTO:+0200
END:DAYLIGHT
BEGIN:STANDARD
DTSTART:20241027T030000Z
TZOFFSETFROM:+0200
TZOFFSETTO:+0100
END:STANDARD
END:VTIMEZONE
BEGIN:VTIMEZONE
TZID:UTC
BEGIN:STANDARD
DTSTART:20250724T072012Z
TZOFFSETFROM:+0000
TZOFFSETTO:+0000
END:STANDARD
END:VTIMEZONE
BEGIN:VEVENT
UID:53-48
DTSTAMP:20260420T072012Z
SUMMARY:2024 annual general meeting of the EFFAB (European Forum of Farm An
 imal Breeders)
LOCATION:
ORGANIZER;CN=Lluis.Montoliu:MAILTO:montoliu@cnb.csic.es
DTSTART;TZID=Europe/Madrid:20240612T000000
DTEND;TZID=Europe/Madrid:20240613T010000
X-ALT-DESC;FMTTYPE=TEXT/HTML:Agenda AGM 2024 https://www.effab.info/news/an
 nual-general-meeting-2024/ &amp;nbsp\;
CATEGORIES:General
URL;VALUE=URI:https://www.genehumdi.eu/mc-events/2024-annual-general-meetin
 g-of-the-effab-european-forum-of-farm-animal-breeders/?mc_id=53
END:VEVENT
END:VCALENDAR