BEGIN:VCALENDAR
VERSION:2.0
PRODID:spatie/icalendar-generator
DESCRIPTION:Events from GenE-HumDi
X-WR-CALDESC:Events from GenE-HumDi
REFRESH-INTERVAL;VALUE=DURATION:PT1440M
X-PUBLISHED-TTL:PT1440M
BEGIN:VTIMEZONE
TZID:Europe/Madrid
BEGIN:DAYLIGHT
DTSTART:20230326T020000Z
TZOFFSETFROM:+0100
TZOFFSETTO:+0200
END:DAYLIGHT
BEGIN:STANDARD
DTSTART:20231029T030000Z
TZOFFSETFROM:+0200
TZOFFSETTO:+0100
END:STANDARD
END:VTIMEZONE
BEGIN:VTIMEZONE
TZID:UTC
BEGIN:STANDARD
DTSTART:20250723T193204Z
TZOFFSETFROM:+0000
TZOFFSETTO:+0000
END:STANDARD
END:VTIMEZONE
BEGIN:VEVENT
UID:13-11
DTSTAMP:20260419T193204Z
SUMMARY:5th CCP Phenogenomics Conference
LOCATION:Institute of Molecular Genetics of the Czech Academy of Sciences M
 ilan Hašek Auditorium – IMG\, building F Videnska 1083\, 142 20  Prague
  4   Czech Republic  142 20
ORGANIZER;CN=Radislav.Sedlacek:MAILTO:radislav.sedlacek@img.cas.cz
DTSTART;TZID=Europe/Madrid;VALUE=DATE:20230914
DTEND;TZID=Europe/Madrid;VALUE=DATE:20230916
X-ALT-DESC;FMTTYPE=TEXT/HTML:<p>https://www.phenogenomics.cz/?mailpoet_rout
 er&amp;amp\;endpoint=view_in_browser&amp;amp\;action=view&amp;amp\;data=WzM1LCJiZjhkYz
 IwMDkyZTciLDAsMCwwLDFd</p>\n
CATEGORIES:General
URL;VALUE=URI:https://www.genehumdi.eu/mc-events/5th-ccp-phenogenomics-conf
 erence/?mc_id=13
END:VEVENT
END:VCALENDAR