BEGIN:VCALENDAR
VERSION:2.0
PRODID:spatie/icalendar-generator
DESCRIPTION:Events from GenE-HumDi
X-WR-CALDESC:Events from GenE-HumDi
REFRESH-INTERVAL;VALUE=DURATION:PT1440M
X-PUBLISHED-TTL:PT1440M
BEGIN:VTIMEZONE
TZID:Europe/Madrid
BEGIN:DAYLIGHT
DTSTART:20230326T020000Z
TZOFFSETFROM:+0100
TZOFFSETTO:+0200
END:DAYLIGHT
BEGIN:STANDARD
DTSTART:20231029T030000Z
TZOFFSETFROM:+0200
TZOFFSETTO:+0100
END:STANDARD
END:VTIMEZONE
BEGIN:VTIMEZONE
TZID:UTC
BEGIN:STANDARD
DTSTART:20250723T192902Z
TZOFFSETFROM:+0000
TZOFFSETTO:+0000
END:STANDARD
END:VTIMEZONE
BEGIN:VEVENT
UID:20-18
DTSTAMP:20260419T192902Z
SUMMARY:Société Française de Thérapie Cellulaire et Génique (SFTCG) an
 d European Society of Gene and Cell Therapy joint Meeting 2023
LOCATION:Tour &amp;amp\; Taxis complex Avenue du Port 86C  Bruxelles  B-1000
ORGANIZER;CN=admin:MAILTO:ssi.fps@juntadeandalucia.es
DTSTART;TZID=Europe/Madrid:20230826T000000
DTEND;TZID=Europe/Madrid:20230826T010000
X-ALT-DESC;FMTTYPE=TEXT/HTML:In 2023 the SFTCG will organise its annual mee
 ting in collaboration with the ESGCT in Brussels from 24 to 27 October  T
 his will be the 30th annual meeting of the ESGCT &amp;nbsp\;
CATEGORIES:General
URL;VALUE=URI:https://www.genehumdi.eu/mc-events/societe-francaise-de-thera
 pie-cellulaire-et-genique-sftcg-and-european-society-of-gene-and-cell-ther
 apy-joint-meeting-2023/?mc_id=20
END:VEVENT
END:VCALENDAR