BEGIN:VCALENDAR
VERSION:2.0
PRODID:spatie/icalendar-generator
DESCRIPTION:Events from GenE-HumDi
X-WR-CALDESC:Events from GenE-HumDi
REFRESH-INTERVAL;VALUE=DURATION:PT1440M
X-PUBLISHED-TTL:PT1440M
BEGIN:VTIMEZONE
TZID:Europe/Madrid
BEGIN:DAYLIGHT
DTSTART:20240331T020000Z
TZOFFSETFROM:+0100
TZOFFSETTO:+0200
END:DAYLIGHT
BEGIN:STANDARD
DTSTART:20241027T030000Z
TZOFFSETFROM:+0200
TZOFFSETTO:+0100
END:STANDARD
END:VTIMEZONE
BEGIN:VTIMEZONE
TZID:UTC
BEGIN:STANDARD
DTSTART:20250723T211138Z
TZOFFSETFROM:+0000
TZOFFSETTO:+0000
END:STANDARD
END:VTIMEZONE
BEGIN:VEVENT
UID:21-19
DTSTAMP:20260419T211138Z
SUMMARY:International Society for Cell &amp;amp\; Gene Therapy (ISCT) | Europe 
 2024 Regional Meeting
LOCATION:Gothenburg   Gothenburg
ORGANIZER;CN=admin:MAILTO:ssi.fps@juntadeandalucia.es
DTSTART;TZID=Europe/Madrid;VALUE=DATE:20240904
DTEND;TZID=Europe/Madrid;VALUE=DATE:20240907
X-ALT-DESC;FMTTYPE=TEXT/HTML:
CATEGORIES:Partner (external)
URL;VALUE=URI:https://www.genehumdi.eu/mc-events/international-society-for-
 cell-gene-therapy-isct-europe-2024-regional-meeting/?mc_id=21
END:VEVENT
END:VCALENDAR