BEGIN:VCALENDAR
VERSION:2.0
PRODID:spatie/icalendar-generator
DESCRIPTION:Events from GenE-HumDi
X-WR-CALDESC:Events from GenE-HumDi
REFRESH-INTERVAL;VALUE=DURATION:PT1440M
X-PUBLISHED-TTL:PT1440M
BEGIN:VTIMEZONE
TZID:Europe/Madrid
BEGIN:DAYLIGHT
DTSTART:20230326T020000Z
TZOFFSETFROM:+0100
TZOFFSETTO:+0200
END:DAYLIGHT
BEGIN:STANDARD
DTSTART:20231029T030000Z
TZOFFSETFROM:+0200
TZOFFSETTO:+0100
END:STANDARD
BEGIN:DAYLIGHT
DTSTART:20240331T020000Z
TZOFFSETFROM:+0100
TZOFFSETTO:+0200
END:DAYLIGHT
END:VTIMEZONE
BEGIN:VTIMEZONE
TZID:UTC
BEGIN:STANDARD
DTSTART:20250723T193209Z
TZOFFSETFROM:+0000
TZOFFSETTO:+0000
END:STANDARD
END:VTIMEZONE
BEGIN:VEVENT
UID:22-20
DTSTAMP:20260419T193209Z
SUMMARY:Precision Medicine &amp;amp\; Functional Genomics 2023 (8th Sidra Medic
 ine Conference)
LOCATION:St. Regis Doha   Doha
ORGANIZER;CN=admin:MAILTO:ssi.fps@juntadeandalucia.es
DTSTART;TZID=Europe/Madrid;VALUE=DATE:20231111
DTEND;TZID=Europe/Madrid;VALUE=DATE:20231115
X-ALT-DESC;FMTTYPE=TEXT/HTML:On behalf of Sidra Medicine\, we invite you to
  our 8th annual flagship research conference\, Precision Medicine &amp;amp\; 
 Functional Genomics (PMFG)\, scheduled for November 11-14\, 2023 in Doha\,
  Qatar. PMFG is the largest precision medicine conference in the region\, 
 covering a wide range of fields contributing to the advancement in functio
 nal genomics and precision medicine with&amp;hellip\;
CATEGORIES:General
URL;VALUE=URI:https://www.genehumdi.eu/mc-events/precision-medicine-functio
 nal-genomics-2023-8th-sidra-medicine-conference/?mc_id=22
END:VEVENT
END:VCALENDAR