BEGIN:VCALENDAR
VERSION:2.0
PRODID:spatie/icalendar-generator
DESCRIPTION:Events from GenE-HumDi
X-WR-CALDESC:Events from GenE-HumDi
REFRESH-INTERVAL;VALUE=DURATION:PT1440M
X-PUBLISHED-TTL:PT1440M
BEGIN:VTIMEZONE
TZID:Europe/Madrid
BEGIN:STANDARD
DTSTART:20221030T030000Z
TZOFFSETFROM:+0200
TZOFFSETTO:+0100
END:STANDARD
BEGIN:DAYLIGHT
DTSTART:20230326T020000Z
TZOFFSETFROM:+0100
TZOFFSETTO:+0200
END:DAYLIGHT
BEGIN:STANDARD
DTSTART:20231029T030000Z
TZOFFSETFROM:+0200
TZOFFSETTO:+0100
END:STANDARD
BEGIN:DAYLIGHT
DTSTART:20240331T020000Z
TZOFFSETFROM:+0100
TZOFFSETTO:+0200
END:DAYLIGHT
END:VTIMEZONE
BEGIN:VTIMEZONE
TZID:UTC
BEGIN:STANDARD
DTSTART:20250723T204701Z
TZOFFSETFROM:+0000
TZOFFSETTO:+0000
END:STANDARD
END:VTIMEZONE
BEGIN:VEVENT
UID:24-22
DTSTAMP:20260419T204701Z
SUMMARY:Second STMS &amp;amp\; ICT GeneHumdi Call
LOCATION:
ORGANIZER;CN=Fco. Javier Molina Estévez:MAILTO:javier.molina@genyo.es
DTSTART;TZID=Europe/Madrid;VALUE=DATE:20230701
DTEND;TZID=Europe/Madrid;VALUE=DATE:20231001
X-ALT-DESC;FMTTYPE=TEXT/HTML:GenE-Humdi action (Genome Editing to Treat Hum
 ans Diseases) is announcing its second call for applications for to promot
 e young researchers mobility and participation in European forums. The ini
 tiative aims to encourage researchers from EU member countries and near ne
 ighbor countries\,  with emphasis in Inclusiveness Target Countries\, to 
 participate in conferences and short-term scientific visits\, promoting&amp;he
 llip\;
CATEGORIES:General
URL;VALUE=URI:https://www.genehumdi.eu/mc-events/second-stms-ict-genehumdi-
 call/?mc_id=24
END:VEVENT
END:VCALENDAR