BEGIN:VCALENDAR
VERSION:2.0
PRODID:spatie/icalendar-generator
DESCRIPTION:Events from GenE-HumDi
X-WR-CALDESC:Events from GenE-HumDi
REFRESH-INTERVAL;VALUE=DURATION:PT1440M
X-PUBLISHED-TTL:PT1440M
BEGIN:VTIMEZONE
TZID:Europe/Madrid
BEGIN:STANDARD
DTSTART:20231029T030000Z
TZOFFSETFROM:+0200
TZOFFSETTO:+0100
END:STANDARD
BEGIN:DAYLIGHT
DTSTART:20240331T020000Z
TZOFFSETFROM:+0100
TZOFFSETTO:+0200
END:DAYLIGHT
BEGIN:STANDARD
DTSTART:20241027T030000Z
TZOFFSETFROM:+0200
TZOFFSETTO:+0100
END:STANDARD
END:VTIMEZONE
BEGIN:VTIMEZONE
TZID:UTC
BEGIN:STANDARD
DTSTART:20250723T233052Z
TZOFFSETFROM:+0000
TZOFFSETTO:+0000
END:STANDARD
END:VTIMEZONE
BEGIN:VEVENT
UID:28-26
DTSTAMP:20260419T233052Z
SUMMARY:WG02 MEETING
LOCATION:
ORGANIZER;CN=Rasmus Bak:MAILTO:bak@biomed.au.dk
DTSTART;TZID=Europe/Madrid;VALUE=DATE:20240613
DTEND;TZID=Europe/Madrid;VALUE=DATE:20240614
X-ALT-DESC;FMTTYPE=TEXT/HTML:This is a unique opportunity to present your r
 esearch profile to the group. The presentation should consist of a present
 ation of yourself\, your research\, potential contributions to the group/a
 ction\, collaborations\, ideas/needs within the COST network. The presenta
 tion is a maximum of 6 min. total. Please sign up using this link: https:/
 /docs.google.com/spreadsheets/d/1MHpPt8twf-vBy4y5RQj8Cs6XxhqKzOSSv20yVYgei
 YM/edit?usp=sharing All the best\, Rasmus
CATEGORIES:General
URL;VALUE=URI:https://www.genehumdi.eu/mc-events/wg02-meeting-2/?mc_id=28
END:VEVENT
END:VCALENDAR