BEGIN:VCALENDAR
VERSION:2.0
PRODID:spatie/icalendar-generator
DESCRIPTION:Events from GenE-HumDi
X-WR-CALDESC:Events from GenE-HumDi
REFRESH-INTERVAL;VALUE=DURATION:PT1440M
X-PUBLISHED-TTL:PT1440M
BEGIN:VTIMEZONE
TZID:Europe/Madrid
BEGIN:STANDARD
DTSTART:20231029T030000Z
TZOFFSETFROM:+0200
TZOFFSETTO:+0100
END:STANDARD
BEGIN:DAYLIGHT
DTSTART:20240331T020000Z
TZOFFSETFROM:+0100
TZOFFSETTO:+0200
END:DAYLIGHT
END:VTIMEZONE
BEGIN:VTIMEZONE
TZID:UTC
BEGIN:STANDARD
DTSTART:20250723T192856Z
TZOFFSETFROM:+0000
TZOFFSETTO:+0000
END:STANDARD
END:VTIMEZONE
BEGIN:VEVENT
UID:37-34
DTSTAMP:20260419T192856Z
SUMMARY:WG6 MEETING
LOCATION:
ORGANIZER;CN=Toni.Cathomen:MAILTO:toni.cathomen@uniklinik-freiburg.de
DTSTART;TZID=Europe/Madrid;VALUE=DATE:20240301
DTEND;TZID=Europe/Madrid;VALUE=DATE:20240302
X-ALT-DESC;FMTTYPE=TEXT/HTML:<p>Technnological Transfer &amp;amp\; Industry<br />\nRegulatory Issues</p>\n
CATEGORIES:General
URL;VALUE=URI:https://www.genehumdi.eu/mc-events/wg6-meeting-2/?mc_id=37
END:VEVENT
END:VCALENDAR