BEGIN:VCALENDAR
VERSION:2.0
PRODID:spatie/icalendar-generator
DESCRIPTION:Events from GenE-HumDi
X-WR-CALDESC:Events from GenE-HumDi
REFRESH-INTERVAL;VALUE=DURATION:PT1440M
X-PUBLISHED-TTL:PT1440M
BEGIN:VTIMEZONE
TZID:Europe/Madrid
BEGIN:STANDARD
DTSTART:20231029T030000Z
TZOFFSETFROM:+0200
TZOFFSETTO:+0100
END:STANDARD
BEGIN:DAYLIGHT
DTSTART:20240331T020000Z
TZOFFSETFROM:+0100
TZOFFSETTO:+0200
END:DAYLIGHT
BEGIN:STANDARD
DTSTART:20241027T030000Z
TZOFFSETFROM:+0200
TZOFFSETTO:+0100
END:STANDARD
END:VTIMEZONE
BEGIN:VTIMEZONE
TZID:UTC
BEGIN:STANDARD
DTSTART:20250723T193111Z
TZOFFSETFROM:+0000
TZOFFSETTO:+0000
END:STANDARD
END:VTIMEZONE
BEGIN:VEVENT
UID:44-41
DTSTAMP:20260419T193111Z
SUMMARY:GenEHumDi #youngreserachers webinar series
LOCATION:
ORGANIZER;CN=Laura.Torella:MAILTO:ltorella@alumni.unav.es
DTSTART;TZID=Europe/Madrid:20240520T100000
DTEND;TZID=Europe/Madrid:20240520T110000
X-ALT-DESC;FMTTYPE=TEXT/HTML:🔬 Each session will feature an invited spe
 aker sharing insights on cutting-edge topics in science and career develop
 ment. Join us for an hour of inspiration\, learning\, and networking. 🗓
 ️ Mark your calendars! Our inaugural session is on May 20th at 10 am C
 ET. Our first expert\, Marc Güell\, will discuss \"Strategies and tools 
 for ex vivo and in vivo&amp;hellip\;
CATEGORIES:General
URL;VALUE=URI:https://www.genehumdi.eu/mc-events/genehumdi-youngreserachers
 -webinar-series/?mc_id=44
END:VEVENT
END:VCALENDAR