BEGIN:VCALENDAR
VERSION:2.0
PRODID:spatie/icalendar-generator
DESCRIPTION:Events from GenE-HumDi
X-WR-CALDESC:Events from GenE-HumDi
REFRESH-INTERVAL;VALUE=DURATION:PT1440M
X-PUBLISHED-TTL:PT1440M
BEGIN:VTIMEZONE
TZID:Europe/Madrid
BEGIN:STANDARD
DTSTART:20231029T030000Z
TZOFFSETFROM:+0200
TZOFFSETTO:+0100
END:STANDARD
BEGIN:DAYLIGHT
DTSTART:20240331T020000Z
TZOFFSETFROM:+0100
TZOFFSETTO:+0200
END:DAYLIGHT
BEGIN:STANDARD
DTSTART:20241027T030000Z
TZOFFSETFROM:+0200
TZOFFSETTO:+0100
END:STANDARD
END:VTIMEZONE
BEGIN:VTIMEZONE
TZID:UTC
BEGIN:STANDARD
DTSTART:20250723T192851Z
TZOFFSETFROM:+0000
TZOFFSETTO:+0000
END:STANDARD
END:VTIMEZONE
BEGIN:VEVENT
UID:45-42
DTSTAMP:20260419T192851Z
SUMMARY:GeneHumdi #SummerSchool2024
LOCATION:National Institute of Chemistry\, Kemijski inštitut Hajdrihova ul
 ica 19\,  Ljubljana  1000
ORGANIZER;CN=Dusko.Lainscek:MAILTO:dusko.lainscek@ki.si
DTSTART;TZID=Europe/Madrid;VALUE=DATE:20240626
DTEND;TZID=Europe/Madrid;VALUE=DATE:20240629
X-ALT-DESC;FMTTYPE=TEXT/HTML:<p>The course will be locally organized by est
 eemed Dr. Duško Lainšček and Prof Roman Jerala from the National Chemis
 try Institut (Ljubljana\, Slovenia). They will count with the collaboratio
 n of Dr. Dhano Gupta from Institute of Developmental &amp;amp\; Regenerative M
 edicine\, Oxford university (Oxford\, UK).</p>\n<p>The course orchestrates
  around dissecting efficacy and specificity of cutting-edge genome editing
  technologies considering the major layers that are needed for the success
  of clinical genome editing interventions. The syllabus articulates around
  3 blocks:<br />\n1) NVDM: Non-Viral Delivery Methods.<br />\nIn which we 
 will learn about efficacy and specificity of genome editing delivery tools
 . And also\, applications across different cell types and approaches in cl
 inical settings.<br />\n2) Comparative Analyses of Genome Editing (GE)tool
 s.<br />\nEvaluating efficacy and specificity of various genome editing to
 ols. And including the comparison of different delivery methods for optima
 l outcomes.<br />\n3) In Vivo Genome Editing Techniques.<br />\nInvestigat
 ing in vivo genome editing techniques in animal models and clinical scenar
 ios. And assessing efficacy and specificity within specific tissues and or
 gans.</p>\n<p>From the Genome Editing for the treatment of human diseases 
 (GeneHumdi\, COST CA21113)\, we are happy to announce that we count with t
 he support and expertise of many members interested and the participation 
 of the action chair Karim Benabdel Lah and SCC F. Javier Molina as coordin
 ators.</p>\n
CATEGORIES:General
URL;VALUE=URI:https://www.genehumdi.eu/mc-events/genehumdi-summerschool2024
 /?mc_id=45
END:VEVENT
END:VCALENDAR