BEGIN:VCALENDAR
VERSION:2.0
PRODID:spatie/icalendar-generator
DESCRIPTION:Events from GenE-HumDi
X-WR-CALDESC:Events from GenE-HumDi
REFRESH-INTERVAL;VALUE=DURATION:PT1440M
X-PUBLISHED-TTL:PT1440M
BEGIN:VTIMEZONE
TZID:Europe/Madrid
BEGIN:STANDARD
DTSTART:20241027T030000Z
TZOFFSETFROM:+0200
TZOFFSETTO:+0100
END:STANDARD
BEGIN:DAYLIGHT
DTSTART:20250330T020000Z
TZOFFSETFROM:+0100
TZOFFSETTO:+0200
END:DAYLIGHT
BEGIN:STANDARD
DTSTART:20251026T030000Z
TZOFFSETFROM:+0200
TZOFFSETTO:+0100
END:STANDARD
END:VTIMEZONE
BEGIN:VTIMEZONE
TZID:UTC
BEGIN:STANDARD
DTSTART:20250726T101605Z
TZOFFSETFROM:+0000
TZOFFSETTO:+0000
END:STANDARD
END:VTIMEZONE
BEGIN:VEVENT
UID:58-53
DTSTAMP:20260422T101605Z
SUMMARY:GeneHumdi Summer School  (Modena\, 2025)
LOCATION:
ORGANIZER;CN=Alessia.Cavazza:MAILTO:a.cavazza@ucl.ac.uk
DTSTART;TZID=Europe/Madrid;VALUE=DATE:20250618
DTEND;TZID=Europe/Madrid;VALUE=DATE:20250621
X-ALT-DESC;FMTTYPE=TEXT/HTML:WEDNESDAY 18 JUNE 14:00-17:30 Welcome and Int
 roduction 14.00 – 14.30 - Welcome from the GeneHumdi COST action and PhD
  School in Molecular and Regenerative Medicine - Overview and Objectives o
 f the workshop (A. Cavazza\, L. De Rosa\, A. Recchia )   Session 1: Genom
 e Engineering for Human Therapies 14:30 – 15:30 Lecture: Gene Editing i
 n a Nutshell:&amp;hellip\;
CATEGORIES:Partner (external),  GeneHumdi
URL;VALUE=URI:https://www.genehumdi.eu/mc-events/genehumdi-summer-school-mo
 dena-2025/?mc_id=58
END:VEVENT
END:VCALENDAR